BEGIN:VCALENDAR
VERSION:2.0
PRODID:-//Seabury Gould - ECPv6.15.20//NONSGML v1.0//EN
CALSCALE:GREGORIAN
METHOD:PUBLISH
X-WR-CALNAME:Seabury Gould
X-ORIGINAL-URL:https://www.seaburygould.com
X-WR-CALDESC:Events for Seabury Gould
REFRESH-INTERVAL;VALUE=DURATION:PT1H
X-Robots-Tag:noindex
X-PUBLISHED-TTL:PT1H
BEGIN:VTIMEZONE
TZID:America/Los_Angeles
BEGIN:DAYLIGHT
TZOFFSETFROM:-0800
TZOFFSETTO:-0700
TZNAME:PDT
DTSTART:20250309T100000
END:DAYLIGHT
BEGIN:STANDARD
TZOFFSETFROM:-0700
TZOFFSETTO:-0800
TZNAME:PST
DTSTART:20251102T090000
END:STANDARD
BEGIN:DAYLIGHT
TZOFFSETFROM:-0800
TZOFFSETTO:-0700
TZNAME:PDT
DTSTART:20260308T100000
END:DAYLIGHT
BEGIN:STANDARD
TZOFFSETFROM:-0700
TZOFFSETTO:-0800
TZNAME:PST
DTSTART:20261101T090000
END:STANDARD
BEGIN:DAYLIGHT
TZOFFSETFROM:-0800
TZOFFSETTO:-0700
TZNAME:PDT
DTSTART:20270314T100000
END:DAYLIGHT
BEGIN:STANDARD
TZOFFSETFROM:-0700
TZOFFSETTO:-0800
TZNAME:PST
DTSTART:20271107T090000
END:STANDARD
END:VTIMEZONE
BEGIN:VEVENT
DTSTART;TZID=America/Los_Angeles:20260425T170000
DTEND;TZID=America/Los_Angeles:20260425T200000
DTSTAMP:20260424T063011
CREATED:20260423T165638Z
LAST-MODIFIED:20260423T165638Z
UID:1979-1777136400-1777147200@www.seaburygould.com
SUMMARY:TICKET TO RIDE LIVE: Trinidad Art Nights Kick-off
DESCRIPTION:Dear friends\,\n\nJoyous greetings!\n\nCome enjoy songs of the BEATLES when TICKET TO RIDE performs this Saturday as part of Trinidad Art night!\n\nWe play from 5-8pm outside Lighthouse Grill in Saunders plaza. This will be a beautiful communal event with dancing & singing along!\nThe musicians: Jim & Tamara Hubbard\, Seabury Gould\, Jeff Kelley\, Tim Claasen & Justin Hoops.\n\nLet’s Come Together for this super-fun event!\n\nA splendid time is guaranteed for all.\n\nAttached photo is from the Beatles’ famous rooftop concert in London on Jan. 30\, 1969. They were joined by keyboardist Billy Preston. The 42-minute lunchtime set was interrupted by the police following noise complaints.\n\nOnward\,\nSeabury
URL:https://www.seaburygould.com/calendar/ticket-to-ride-live-trinidad-art-nights-kick-off/
LOCATION:Lighthouse Grill\, 355 Main St.\, Saunders Plaza East\, Trinidad\, CA\, United States
ATTACH;FMTTYPE=image/webp:https://www.seaburygould.com/wp-content/uploads/2026/04/Beatles-Roof.webp
END:VEVENT
END:VCALENDAR