BEGIN:VCALENDAR
VERSION:2.0
PRODID:-//Seabury Gould - ECPv6.15.20//NONSGML v1.0//EN
CALSCALE:GREGORIAN
METHOD:PUBLISH
X-WR-CALNAME:Seabury Gould
X-ORIGINAL-URL:https://www.seaburygould.com
X-WR-CALDESC:Events for Seabury Gould
REFRESH-INTERVAL;VALUE=DURATION:PT1H
X-Robots-Tag:noindex
X-PUBLISHED-TTL:PT1H
BEGIN:VTIMEZONE
TZID:America/Los_Angeles
BEGIN:DAYLIGHT
TZOFFSETFROM:-0800
TZOFFSETTO:-0700
TZNAME:PDT
DTSTART:20250309T100000
END:DAYLIGHT
BEGIN:STANDARD
TZOFFSETFROM:-0700
TZOFFSETTO:-0800
TZNAME:PST
DTSTART:20251102T090000
END:STANDARD
BEGIN:DAYLIGHT
TZOFFSETFROM:-0800
TZOFFSETTO:-0700
TZNAME:PDT
DTSTART:20260308T100000
END:DAYLIGHT
BEGIN:STANDARD
TZOFFSETFROM:-0700
TZOFFSETTO:-0800
TZNAME:PST
DTSTART:20261101T090000
END:STANDARD
BEGIN:DAYLIGHT
TZOFFSETFROM:-0800
TZOFFSETTO:-0700
TZNAME:PDT
DTSTART:20270314T100000
END:DAYLIGHT
BEGIN:STANDARD
TZOFFSETFROM:-0700
TZOFFSETTO:-0800
TZNAME:PST
DTSTART:20271107T090000
END:STANDARD
END:VTIMEZONE
BEGIN:VEVENT
DTSTART;TZID=America/Los_Angeles:20260402T180000
DTEND;TZID=America/Los_Angeles:20260402T210000
DTSTAMP:20260422T193649
CREATED:20260331T222019Z
LAST-MODIFIED:20260331T222019Z
UID:1972-1775152800-1775163600@www.seaburygould.com
SUMMARY:TONY Khalife & SEABURY Gould LIVE!
DESCRIPTION:Dear friends\,\n\nJoyous greetings! I’m delighted to tell you about a very special performance happening on Thursday\, April 2. World-class guitarist TONY KHALIFE & SEABURY Gould unleash their dazzling teamwork at Redwood Curtain Brew in Myrtletown\, Eureka\,  from 6- 9 pm! \n\nThis is a concert of heartfelt “Eclectic Folk” music. Both Seabury & Tony sing a variety of uplifting songs with guitar accompaniment. \n\nTony’s stunning guitar playing always amazes audiences. Both musicians play music of India\, & Tony’s repertoire includes beautiful songs in Arabic.\nSeabury & Tony take diverse melodies & harmonies on a groove-aware & super-fun journey! \n\nRedwood Curtain is a friendly venue with conviviality\, great drinks & a food truck with tasty options. There’s no cover charge.\nPhoto by Ranjith. \n\nInfo: seaburygould.com\nThink globally\,  Sing locally.\nOnward! \n\nSeabury Gould
URL:https://www.seaburygould.com/calendar/tony-khalife-seabury-gould-live/
LOCATION:Redwood Curtain Brew\, 1595 Myrtle Avenue Suite B\,\, Eureka\, CA\, 95501\, United States
ATTACH;FMTTYPE=image/jpeg:https://www.seaburygould.com/wp-content/uploads/2026/03/IMG_9104-scaled.jpg
END:VEVENT
BEGIN:VEVENT
DTSTART;TZID=America/Los_Angeles:20260415T150000
DTEND;TZID=America/Los_Angeles:20260415T163000
DTSTAMP:20260422T193649
CREATED:20260413T150735Z
LAST-MODIFIED:20260413T202602Z
UID:1975-1776265200-1776270600@www.seaburygould.com
SUMMARY:Song Circle with Seabury Gould
DESCRIPTION:Dear friends\, \nLet’s sing together! \nWe gather for a SONG CIRCLE on Wed. April 15 at Trinidad Heart center (426 Trinity st. In Trinidad)\, 3- 4.30 pm. Sliding donation $10- 20. \nIt’s fun to sing a variety of Folk songs & Hopeful songs! All ages welcome. The main songbook is ‘Rise Up Singing’. \nSeabury Gould accompanies on guitar. \nThe 3rd Wednesday of every month. \nCome enjoy our singalong which is always friendly\, informal & welcoming\, & in the spirit of “Think globally\, Sing locally”. \nPeace on earth \n“Hooray for getting rainbow gangs of folks\, young & old\, singing together.”  (Pete Seeger) \nOnward.\nSeabury
URL:https://www.seaburygould.com/calendar/song-circle-with-seabury-gould-8/
LOCATION:Trinidad Heart Center\, 426 Trinity St.\, Trinidad\, CA\, 95570\, United States
ATTACH;FMTTYPE=image/webp:https://www.seaburygould.com/wp-content/uploads/2026/04/seabury-5-guitar.webp
END:VEVENT
END:VCALENDAR